BEGIN:VCALENDAR
VERSION:2.0
PRODID:-//Organic Farming Research Foundation - ECPv6.15.12.2//NONSGML v1.0//EN
CALSCALE:GREGORIAN
METHOD:PUBLISH
X-WR-CALNAME:Organic Farming Research Foundation
X-ORIGINAL-URL:https://ofrf.org
X-WR-CALDESC:Events for Organic Farming Research Foundation
REFRESH-INTERVAL;VALUE=DURATION:PT1H
X-Robots-Tag:noindex
X-PUBLISHED-TTL:PT1H
BEGIN:VTIMEZONE
TZID:America/Chicago
BEGIN:DAYLIGHT
TZOFFSETFROM:-0600
TZOFFSETTO:-0500
TZNAME:CDT
DTSTART:20250309T080000
END:DAYLIGHT
BEGIN:STANDARD
TZOFFSETFROM:-0500
TZOFFSETTO:-0600
TZNAME:CST
DTSTART:20251102T070000
END:STANDARD
BEGIN:DAYLIGHT
TZOFFSETFROM:-0600
TZOFFSETTO:-0500
TZNAME:CDT
DTSTART:20260308T080000
END:DAYLIGHT
BEGIN:STANDARD
TZOFFSETFROM:-0500
TZOFFSETTO:-0600
TZNAME:CST
DTSTART:20261101T070000
END:STANDARD
BEGIN:DAYLIGHT
TZOFFSETFROM:-0600
TZOFFSETTO:-0500
TZNAME:CDT
DTSTART:20270314T080000
END:DAYLIGHT
BEGIN:STANDARD
TZOFFSETFROM:-0500
TZOFFSETTO:-0600
TZNAME:CST
DTSTART:20271107T070000
END:STANDARD
END:VTIMEZONE
BEGIN:VEVENT
DTSTART;TZID=America/Chicago:20260226T130000
DTEND;TZID=America/Chicago:20260226T170000
DTSTAMP:20260424T094153
CREATED:20260121T151815Z
LAST-MODIFIED:20260128T152343Z
UID:19802-1772110800-1772125200@ofrf.org
SUMMARY:Research and Extension Regional Meetup at Marbleseed Conference
DESCRIPTION:Join the Organic Farming Research Foundation (OFRF) on Thursday\, February 26th\, from 1-5 pm\, at Marbleseed’s 37th Organic Farming Conference in La Crosse\, Wisconsin for a special networking opportunity. This Thursday session will provide opportunities to connect\, share updates with colleagues\, and hear the latest updates from OFRF about USDA funding opportunities for organic research. \nConference registration info here.\nThe Research and Extension Regional Meetup is on Thursday\, February 26th\, from 1-5pm local time. A happy hour on site will follow. \nThe conference theme is: Abundance Grows in Solidarity. Conference dates are February 26-28\, 2026
URL:https://ofrf.org/event/research-and-extension-regional-meetup-at-marbleseed-conference/
LOCATION:La Crosse Center\, 300 Harborview Plaza\, La Crosse\, WI\, 54601\, United States
CATEGORIES:OFRF Events
ATTACH;FMTTYPE=image/png:https://ofrf.org/wp-content/uploads/2025/12/WP-Featured-Images-720x381-9.png
END:VEVENT
END:VCALENDAR